{
 "currentVersion": 10.91,
 "serviceDescription": "",
 "mapName": "Layers",
 "description": "",
 "copyrightText": "",
 "supportsDynamicLayers": true,
 "layers": [
  {
   "id": 0,
   "name": "sde.SDE.Topografski_Karti_25000",
   "parentLayerId": -1,
   "defaultVisibility": true,
   "subLayerIds": null,
   "minScale": 0,
   "maxScale": 0,
   "type": "Raster Layer"
  }
 ],
 "tables": [],
 "spatialReference": {
  "wkt": "PROJCS[\"Bessel_1841_Transverse_Mercator\",GEOGCS[\"GCS_Bessel_1841\",DATUM[\"D_Bessel_1841\",SPHEROID[\"Bessel_1841\",6377397.155,299.1528128]],PRIMEM[\"Greenwich\",0.0],UNIT[\"Degree\",0.0174532925199433]],PROJECTION[\"Transverse_Mercator\"],PARAMETER[\"False_Easting\",7500000.0],PARAMETER[\"False_Northing\",0.0],PARAMETER[\"Central_Meridian\",21.0],PARAMETER[\"Scale_Factor\",0.9999],PARAMETER[\"Latitude_Of_Origin\",0.0],UNIT[\"Meter\",1.0]]"
 },
 "singleFusedMapCache": true,
 "tileInfo": {
  "rows": 256,
  "cols": 256,
  "dpi": 96,
  "format": "MIXED",
  "compressionQuality": 75,
  "origin": {
   "x": 1878100,
   "y": 10000000
  },
  "spatialReference": {
   "wkt": "PROJCS[\"Bessel_1841_Transverse_Mercator\",GEOGCS[\"GCS_Bessel_1841\",DATUM[\"D_Bessel_1841\",SPHEROID[\"Bessel_1841\",6377397.155,299.1528128]],PRIMEM[\"Greenwich\",0.0],UNIT[\"Degree\",0.0174532925199433]],PROJECTION[\"Transverse_Mercator\"],PARAMETER[\"False_Easting\",7500000.0],PARAMETER[\"False_Northing\",0.0],PARAMETER[\"Central_Meridian\",21.0],PARAMETER[\"Scale_Factor\",0.9999],PARAMETER[\"Latitude_Of_Origin\",0.0],UNIT[\"Meter\",1.0]]"
  },
  "lods": [
   {
    "level": 0,
    "resolution": 66.1459656252646,
    "scale": 250000
   },
   {
    "level": 1,
    "resolution": 33.0729828126323,
    "scale": 125000
   },
   {
    "level": 2,
    "resolution": 16.933367200067735,
    "scale": 64000
   },
   {
    "level": 3,
    "resolution": 8.466683600033868,
    "scale": 32000
   },
   {
    "level": 4,
    "resolution": 4.233341800016934,
    "scale": 16000
   },
   {
    "level": 5,
    "resolution": 2.116670900008467,
    "scale": 8000
   },
   {
    "level": 6,
    "resolution": 1.0583354500042335,
    "scale": 4000
   },
   {
    "level": 7,
    "resolution": 0.5291677250021167,
    "scale": 2000
   },
   {
    "level": 8,
    "resolution": 0.26458386250105836,
    "scale": 1000
   },
   {
    "level": 9,
    "resolution": 0.13229193125052918,
    "scale": 500
   },
   {
    "level": 10,
    "resolution": 0.06614596562526459,
    "scale": 250
   },
   {
    "level": 11,
    "resolution": 0.033072982812632296,
    "scale": 125
   }
  ]
 },
 "initialExtent": {
  "xmin": 7502891.788516903,
  "ymin": 4628312.535352671,
  "xmax": 7570836.924407175,
  "ymax": 4671492.621712844,
  "spatialReference": {
   "cs": "pcs",
   "wkt": "PROJCS[\"Bessel_1841_Transverse_Mercator\",GEOGCS[\"GCS_Bessel_1841\",DATUM[\"D_Bessel_1841\",SPHEROID[\"Bessel_1841\",6377397.155,299.1528128]],PRIMEM[\"Greenwich\",0.0],UNIT[\"Degree\",0.0174532925199433]],PROJECTION[\"Transverse_Mercator\"],PARAMETER[\"False_Easting\",7500000.0],PARAMETER[\"False_Northing\",0.0],PARAMETER[\"Central_Meridian\",21.0],PARAMETER[\"Scale_Factor\",0.9999],PARAMETER[\"Latitude_Of_Origin\",0.0],UNIT[\"Meter\",1.0]]"
  }
 },
 "fullExtent": {
  "xmin": 7500000.231766795,
  "ymin": 4636828.106123329,
  "xmax": 7551870.61177591,
  "ymax": 4664773.018420179,
  "spatialReference": {
   "cs": "pcs",
   "wkt": "PROJCS[\"Bessel_1841_Transverse_Mercator\",GEOGCS[\"GCS_Bessel_1841\",DATUM[\"D_Bessel_1841\",SPHEROID[\"Bessel_1841\",6377397.155,299.1528128]],PRIMEM[\"Greenwich\",0.0],UNIT[\"Degree\",0.0174532925199433]],PROJECTION[\"Transverse_Mercator\"],PARAMETER[\"False_Easting\",7500000.0],PARAMETER[\"False_Northing\",0.0],PARAMETER[\"Central_Meridian\",21.0],PARAMETER[\"Scale_Factor\",0.9999],PARAMETER[\"Latitude_Of_Origin\",0.0],UNIT[\"Meter\",1.0]]"
  }
 },
 "minScale": 250000,
 "maxScale": 1000,
 "minLOD": 0,
 "maxLOD": 8,
 "units": "esriMeters",
 "supportedImageFormatTypes": "PNG32,PNG24,PNG,JPG,DIB,TIFF,EMF,PS,PDF,GIF,SVG,SVGZ,BMP",
 "documentInfo": {
  "Title": "",
  "Author": "",
  "Comments": "",
  "Subject": "",
  "Category": "",
  "AntialiasingMode": "None",
  "TextAntialiasingMode": "Force",
  "Keywords": ""
 },
 "capabilities": "Map,Query,Data",
 "supportedQueryFormats": "JSON, geoJSON",
 "exportTilesAllowed": false,
 "referenceScale": 0,
 "supportsDatumTransformation": true,
 "maxRecordCount": 1000,
 "maxImageHeight": 4096,
 "maxImageWidth": 4096,
 "supportedExtensions": ""
}
